Workbook

Sheet Cover page
Q3: Strictly confidential
C11: Quarterly Management Accounts Template
C14: Intermediary: | F14: ….............................................................................................................
C15: License Category: | F15: ….............................................................................................................
C16: License Number: | F16: ….............................................................................................................
C17: Date of submission: | F17: ….............................................................................................................
C19: PREPARED BY: | E19: (Accountant)
C21: Name: | E21: ….................................................................................
C23: Designation: | E23: ….................................................................................
C25: Signature: | E25: …................................................................................. | K25: Date: | L25: ….........................................................................
C27: CHECKED AND APPROVED BY: | G27: (CEO)
C29: Name: | E29: ….................................................................................
C31: Designation: | E31: ….................................................................................
C33: Signature: | E33: …................................................................................. | K33: Date: | L33: ….........................................................................

Sheet Glossary
A1: Glossary
A2: Aggregate indebtedness | B2: Refers to the total amount of debt owed by a company or individual. For the case of brokers/ dealers; “aggregate indebtedness” means the total liabilities of the broker or dealer less— (i) deferred taxes; (ii) amounts due to a director or an associate; (iii) noncurrent liabilities fully secured by noncurrent assets excluded from net capital; and (iv) subordinated loans accepted for the purpose by the authority
A3: Deficit in client accounts | B3: A deficit in client accounts is when the total obligations or liabilities owed to clients by a broker exceed the assets or funds held on behalf of those clients.
A4: Excess of the book value of securities in broker's or dealer's own account over market value | B4: The book value of securities held by the broker or dealer exceeds their current market value. In other words, the value recorded in the broker's or dealer's books for these securities is higher than the price at which they could be sold in the market.
A5: Preceding year | B5: Refers to the year immediately before the current year or the year being discussed. For example, if the current year is 2024, the preceding year would be 2023.
A6: Shareholder funds/ equity | B6: Reflects the amount of capital contributed by shareholders plus any retained earnings or accumulated profits generated by the company as well as reserves.
A7: Subordinated loans | B7: A type of debt financing where the lender agrees to be repaid after other debts in the event of liquidation or bankruptcy. Usually given by a related party.
A8: Unsecured loans and advances | B8: Credit extended by the licensee to a borrower without requiring any collateral or security.

Sheet Broker net capital return
A1: Monthly Net Capital Statement for Brokers/dealers
A3: 1. Net capital | B3: Note | C3: Amount (UGX) (000)
A4: Shareholder funds that include:
A5: i. Paid up ordinary share capital
A6: ii. Preference share capital
A7: iii. Revaluation reserves
A8: iv. Retained earnings
A9: v. Shareholder reserves
A10: vi. Share premium
A11: vii. Proposed dividends
A12: viii. Share based payments
A13: ix. Others (specify)
A14: Total shareholder funds | C14: =SUM(C5:C13) -> 0
A15: Subordinated loans
A16: Total A | C16: =IFERROR(C14+C15,0) -> 0
A17: Non current assets including deposits with CMA and USE
A18: Prepaid expenses
A19: Unsecured loans and advances included under current assets
A20: Amounts due from directors and associates
A21: Excess of the book value of securities in broker's or dealer's own account over market value
A22: Deficits in client accounts less provisions for bad or doubtful debts
A23: Total B | C23: =SUM(C17:C22) -> 0
A24: i. Net Capital (Total A-Total B) | C24: =C16-C23 -> 0
A25: ii. Minimum net capital | C25: 15000000
A26: Excess (i-ii) | C26: =C24-C25 -> -15000000
A28: 2. Aggregate indebtedness
A29: All liabilities
A30: Less:
A31: (i) deferred taxes;
A32: (ii) amounts due to a director or an associate;
A33: (iii) noncurrent liabilities fully secured by noncurrent assets excluded from net capital
A34: (iv) subordinated loans accepted for the purpose by the Authority
A35: Total Aggregate indebtedness
A37: 3. Aggregate indebtedness as a percentage of net capital | C37: =IFERROR((C35/C24)*100,0) -> 0
A39: 4. Aggregate unsecured advances to associates
A41: 5. Number of clients with deficits on the accounts exceeding 30% of monthly net capital

Sheet Fund manager capital return
A1: Quarterly Capital Statement for Fund Managers
B3: Note | C3: Amount (UGX) (000)
A4: a. Shareholder Funds
A5: Paid up ordinary share capital | C5: ='Balance sheet'!C31 -> 0
A6: Preference share capital
A7: Revaluation reserves
A8: Retained earnings
A9: Shareholder reserves
A10: Share premium
A11: Proposed dividends
A12: Share based payments
A13: Others (specify)
A14: i. Total shareholder funds | C14: =SUM(C5:C13) -> 0
A15: ii Minimum Shareholder funds required | C15: 375000
A16: iii. Excess(i-ii) | C16: =C14-C15 -> -375000
A18: b. Working Capital
A19: Current assets | C19: ='Balance sheet'!C26 -> 0
A20: Current liabilities | C20: ='Balance sheet'!C62 -> 0
A21: i. Working Capital | C21: =C19-C20 -> 0
A22: ii. Minimum working capital required (working capital sufficient to meet operating costs of the business for not less than three months) | C22: 0
A23: iii. Excess (i-ii) | C23: =C21-C22 -> 0
A25: c. Ratio of Bank overdraft to paid up share capital
A26: i. Bank Overdraft
A27: ii.Paid-Up Share Capital | C27: ='Balance sheet'!C31 -> 0
A28: iii. Ratio (i/ii)*100 | C28: =IFERROR((C26/C27)*100,0) -> 0
A29: iv. Required ratio (20% of paid-up share capital) | C29: 20
A30: v. Excess (iv-iii) | C30: =C29-C28 -> 20
A33: d. Unsecured advances, loans and other financial facility to directors or associate
A34: i. Excess share holder funds | C34: =C16 -> -375000
A35: ii.Advances to directors and associates
A36: iii. Excess(i-ii) | C36: =C34-C35 -> -375000
A38: iv. Maximum Allowable limit expressed as a percentage of paid-up capital to advances (restricted to maximum of 10% of the shareholder’s funds) | C38: 10
A39: v. Percntage of advances to directors and associates to shareholder funds (ii/shareholder funds) | C39: =IFERROR((C35/C14)*100,0) -> 0
A40: vi. Excess (iv-v) | C40: =C38-C39 -> 10

Sheet Capital return all persons
A1: All other license Categories - Quarterly Submission
B3: Amount (UGX) (000)
A4: 1. Working Capital
A5: i. Current assets | B5: ='Balance sheet'!C26 -> 0
A6: ii. Current liabilities | B6: ='Balance sheet'!C62 -> 0
A7: iii. Working capital (i-ii) | B7: =B5-B6 -> 0
A8: iv. Minimum working capital sufficient to meet operating costs of the business for not less than 3 months (as per acc & finance regulations 2022)
A9: v. Excess (iii-iv) | B9: =B7-B8 -> 0
A11: 2. Share capital
A12: i. Paid up share capital | B12: ='Balance sheet'!C31 -> 0
A13: ii. Required (as per acc & finance regulations 2022)
A14: iii. Excess (i-ii) | B14: =B12-B13 -> 0
A16: 3. Shareholder funds
A18: 4. Dealers only
A19: i. Exposure to each single security held in its own account
A20: ii. Book value of each listed securities carried on its own account

Sheet Balance sheet
A1: Statement of Financial Position
C2: 000 | D2: 000 | E2: 000
B3: Note | C3: Q1 | D3: Q2 | E3: Comparative (end of preceding year)
A4: ASSETS
A5: Non-current assets
A6: Property, plant and equipment
A7: Furniture and Fittings
A8: Capital work-in-progress
A9: Intangible asstes
A10: Deferred tax asset
A11: Right of use assets
A12: Investments (long-term F.As)
A13: Other non-current assets
A14: Total NCA | C14: =SUM(C6:C13) -> 0 | D14: =SUM(D6:D13) -> 0 | E14: =SUM(E6:E13) -> 0
A16: Current assets
A17: Trade and other receivables
A18: Amounts due from related parties
A19: Prepayments
A20: Current Income tax
A21: Investments (Short term F.As)
A22: Cash and bank balances
A23: Assets held for sale
A24: Contract assets
A25: Other current assets
A26: Total CA | C26: =SUM(C17:C25) -> 0 | D26: =SUM(D17:D25) -> 0 | E26: =SUM(E17:E25) -> 0
A27: Total assets | C27: =C14+C26 -> 0 | D27: =D14+D26 -> 0 | E27: =E14+E26 -> 0
A29: LIABILITIES & SHAREHOLDERS' EQUITY
A30: Equity
A31: Paid up ordinary share capital
A32: Preference share capital
A33: Revaluation reserves
A34: Retained earnings
A35: Shareholder reserves
A36: Share premium
A37: Proposed dividends
A38: Share based payments
A39: Others (specify)
A40: Total Equity | C40: =SUM(C31:C39) -> 0 | D40: =SUM(D31:D39) -> 0 | E40: =SUM(E31:E39) -> 0
A42: Non-Current liabilities
A43: Borrowings
...

Sheet P&L
A1: Statement of Profit/ Loss (Cummulative)
C2: 000 | D2: 000 | E2: 000
B3: Notes | C3: Q1 | D3: Q2 (year to date) | E3: Comparable period (year to date of preceding year/ quarter)
A4: Revenue from contracts with customers
A5: Other income (specify)
A6: Total Revenue | C6: =SUM(C4:C5) -> 0 | D6: =SUM(D4:D5) -> 0 | E6: =SUM(E4:E5) -> 0
A7: Direct costs
A8: Gross Profit | C8: =C6-C7 -> 0 | D8: =D6-D7 -> 0 | E8: =E6-E7 -> 0
A10: Operating costs
A11: Staff costs
A12: Depreciation & Amortization
A13: Impairment loss
A14: Group shared costs
A15: Administrative and other expenses
A16: Total Operating costs | C16: =SUM(C11:C15) -> 0 | D16: =SUM(D11:D15) -> 0 | E16: =SUM(E11:E15) -> 0
A17: Earnings Before Interest & Tax | C17: =C8-C16 -> 0 | D17: =D8-D16 -> 0 | E17: =E8-E16 -> 0
A18: Finance costs
A19: Earnings Before Tax | C19: =C17-C18 -> 0 | D19: =D17-D18 -> 0 | E19: =E17-E18 -> 0
A20: Income Tax
A21: Earnings After Tax | C21: =C19-C20 -> 0 | D21: =D19-D20 -> 0 | E21: =E19-E20 -> 0
A22: Other comprehensive income
A23: Profit/ Loss | C23: =C21+C22 -> 0 | D23: =D21+D22 -> 0 | E23: =E21+E22 -> 0

Sheet Cashflow
A1: Statement of Cashflows (Cummulative)
C2: 000 | D2: 000 | E2: 000
B3: Notes | C3: Q1 | D3: Q2 (Year to date) | E3: Comparable period (year to date of preceding year/ quarter)
A4: Cashflows from Operating activities
A5: Profit before tax
A6: Depreciation and amortization
A7: Depreciation of ROU
A8: Impairment loss
A9: Loss on disposal
A10: Interest on lease liability
A11: Interest paid
A12: Interest received
A13: Adjusted profit before tax | C13: =SUM(C5:C12) -> 0 | D13: =SUM(D5:D12) -> 0 | E13: =SUM(E5:E12) -> 0
A15: Changes in working capital
A16: Change in receivables
A17: Change in payables
A18: Change in related party balances
A19: Income Tax paid
A20: Net cashflows from operating expenses | C20: =SUM(C13+C16+C17+C18+C19) -> 0 | D20: =SUM(D13+D16+D17+D18+D19) -> 0 | E20: =SUM(E13+E16+E17+E18+E19) -> 0
A22: Cashflows used in Investing activities
A23: Capital asset acquisitions
A24: Proceeds from disposal
A25: Investments
A26: Other cashflows used in investing activities (specify)
A27: Net cashflows used in investing activities | C27: =SUM(C23:C26) -> 0 | D27: =SUM(D23:D26) -> 0 | E27: =SUM(E23:E26) -> 0
A29: Cashflows used in Financing activities
A30: Interest on borrowings
A31: Principal on borrowings
A32: Dividend paid
A33: Other cashflows used in financing activities (specify)
A34: Net cashflows from financing activities | C34: =SUM(C30:C33) -> 0 | D34: =SUM(D30:D33) -> 0 | E34: =SUM(E30:E33) -> 0
A36: Cash at beginning of year
A37: Change in cash and cash equivalents | C37: =C34+C27+C20 -> 0 | D37: =D34+D27+D20 -> 0 | E37: =E34+E27+E20 -> 0
A38: Cash and cash equivalents at the end of the year | C38: =SUM(C36:C37) -> 0 | D38: =SUM(D36:D37) -> 0 | E38: =SUM(E36:E37) -> 0

Sheet Notes
A1: NOTES
A2: To be included as appropriate
A4: Minimum requirement for notes
A5: 1 | B5: Non-current asset schedule
A6: 2 | B6: Excess book value of securities in broker's or dealers' own account over market value (for brokers/ dealers)
A7: 3 | B7: Deficits in accounts of a single client (brokers/ dealers)
A8: 4 | B8: Revenue from contracts with customers & other income
A9: 5 | B9: Operating expenses schedule
A10: 6 | B10: Trade and other receivables
A11: 7 | B11: Trade and other payables
